Workbook

Sheet Main
D2: Vernon Building Society - BTL ICR Calculator Please scroll to the bottom of the form to ensure all fields are completed The calculator should be used in Excel 365 or >2016
D4: Applicant(s) Name
D6: BTL Type | G6: Completed by (VBS staff) | M6: Decision | N6: =IF(Admin!C54>0,"Info Required", IF(AND(Admin!B25="Y",N10<N8),"ICR Fail", IF(N10<N8,"Refer to discuss top-slicing", IF(AND(Admin!B25="Y",N12<0),"Portfolio ICR Fail", IF(N12<0,"Refer to discuss top-slicing", "Pass"))))) -> Info Required
D8: Mortgage Requested £ | G8: Property Value | M8: ICR Used % | N8: =IFERROR(Admin!E15,"")
D10: Product Selected | G10: Product Rate % | M10: Calculated ICR | N10: =IF(Admin!C54>0,"Info Required",Admin!E20) -> Info Required
D12: Product Fee Amount (if added) | G12: Loan to Value | H12: =IFERROR(E8/H8,"") | M12: Portfolio % Below ICR | N12: =IF(Admin!C54>0,"Info Required", IF(Admin!H15="N","N/A", IF(Admin!J30-Admin!J29>0,"No",Admin!J30-Admin!J29))) -> Info Required
D14: Gross Annual Rental Income | G14: No. of properties in portfolio | M14: Top Slicing Required PM | N14: =IF(AND(Admin!B28<>"Yes"), IF(Admin!B28="Yes","Not Acceptable", IFERROR(IF(Admin!K21>0,Admin!K21,""),"")))
G15: (Including current application)
C16: Stressed Rate | E16: =Admin!B20 -> 0.02 | H16: Version 8.0 - November 2025 | M16: Maximum Loan | N16: =IF(Admin!C54>0,"More info required",ROUNDDOWN(Admin!H17,0)) -> More info required
C19: Personal BTL Only | H19: =IFERROR(IF(#REF!="No","NOT APPLICABLE",""),"") | M19: =IF(E8="","",Admin!D54)
D21: Applicant 1 Personal Income Tax Band | G21: Applicant 2 Personal Income Tax Band
D23: Number of applicants assessed | F23: =IF(E21="","",IF(H21="",1,IF(H21<>"",2,"")))
M24: =IF(Admin!C76>0,Admin!D76,"")
C28: Holiday Let Rental Income
D30: Rental Demand Period | E30: Weekly Rental Price | F30: No. of Weeks | G30: Occupancy Rate
D31: High | F31: 16 | G31: 0.9
D32: Medium | F32: 12 | G32: 0.8
D33: Low | F33: 24 | G33: 0.4
D34: Annual Rental Income | E34: =IF(OR(E31="",E32="",E33=""),"",(E31*E69)+(E32*E69)+(E33*E69)) | F34: 52
C39: Property Portfolio | H39: =IF(G2=1,"NOT APPLICABLE",IF(G2>=1,"",IF(G2>=5,"Please complete BTL Portfolio Form","")))
C41: # | D41: Property Value | E41: Mortgage Balance | F41: Mortgage Payment PM | G41: Annual Rent | H41: Type | I41: Product Rate
C42: 1
C43: 2
C44: 3
C45: 4
C46: * | D46: Portfolios with over 4 properties assessed seperately - please provide a portfolio schedule
C47: * | D47: Please include properties owned in the personal name and/or Ltd Co for the applicant.
D66: Holiday Let 12 weeks - Underwriter Only
D67: Weeks to be used | E67: 10
D69: Weeks Used | E69: =IF(E68="Vern0n",E67,10) -> 10
D70: Exception Required | E70: =IF(AND(E67<>"",E68<>""),"Yes","No") -> No

Sheet Calculations
A3: ICR | B3: % | D3: Type | E3: ICR | F3: Holiday Let | G3: Tax Rate | H3: Product | I3: Portfolio Type | J3: Weeks | K3: Properties in portfolio | L3: Fixed rate ICR | M3: ICR | N3: Expat
A4: Basic Rate / Limited Co | B4: 1.25 | D4: BTL - Limited Company | E4: 1.25 | G4: Basic | H4: 5 Year Fixed | I4: Standard | J4: 10 | K4: 1 | L4: 1.25 | M4: 1.25
A5: Higher rate | B5: 1.4 | D5: BTL - Personal | E5: 1.25 | G5: Higher | H5: Other | I5: Holiday | J5: 11 | K5: 2 | L5: 1.25 | M5: 1.25
A6: Holiday BTL | B6: 1.45 | D6: BTL - Limited Company (HMO) | E6: 1.5 | I6: HMO | J6: 12 | K6: 3 | L6: 1.5 | M6: 1.5
A7: BTL - Expat | B7: 1.4 | D7: BTL - Expat (inc Ltd Co) | E7: 1.4 | I7: Ltd Co | K7: 4 | N7: Y
A8: HMO | B8: 1.5 | D8: BTL - Personal (HMO) | E8: 1.5 | I8: Expat | K8: 5 | L8: 1.5 | M8: 1.5
A9: HMO Higher rate | B9: 1.65 | D9: Holiday - Limited Company | E9: 1.45 | F9: Y | K9: 6 | L9: 1.45 | M9: 1.45
A10: Holiday BTL Higher Rate | B10: 1.6 | D10: Holiday - Personal | E10: 1.45 | F10: Y | L10: 1.45 | M10: 1.45
A13: Stressed Rate | D13: ICR Calculation | G13: Max Loan | J13: Top Slicing (Single Property)
A14: Stressed Rate | B14: 0.02 | D14: Rental Income Used | G14: Application Max | H14: #VALUE! | J14: Rental Income
A15: Product Rate | B15: 0 | D15: ICR USED | E15: 1.45 | G15: Portfolio | H15: Y | J15: Rental Income Required | K15: 0
A16: Product Rate + 2% | B16: 0 | D16: Stressed Rate | E16: 0.02 | G16: Portfolio Max | H16: #DIV/0! | J16: Top Slicing required pm | K16: 0
A17: 5yr fixed floor | B17: 0.0275 | D17: Max Loan | E17: #VALUE! | G17: Max Loan | H17: #DIV/0! | J17: Top Slicing (Portfolio)
A18: 5yr fixed used? | B18: No | D18: Loan Requested | E18: 0 | J18: Rental Income | K18: 0
A19: 5yr Discount used? | B19: No | D19: Payment at stressed rate | E19: 0 | J19: Rental Income Required | K19: #DIV/0!
A20: Stressed Rate Used | B20: 0.02 | D20: ICR % | E20: #VALUE! | J20: Top Slicing required pm | K20: #DIV/0!
A21: Interest Rate Required | B21: No | J21: Top Slicing required pm | K21: #DIV/0!
D22: Portfolio
A23: Tax Position | D23: Property | E23: Loan £ | F23: Income £ | G23: Stressed Rate % | H23: Property Type | I23: 100% ICR | J23: ICR Required | K23: Rental Required | L23: Individual ICR
A24: Higher Rate Tax Payer | B24: No | D24: Application | E24: 0 | G24: 0.02 | H24: Holiday - Limited Company | I24: 0 | J24: 1.45 | K24: 0 | L24: #VALUE!
A25: Holiday Let | B25: Y | D25: Portfolio 1 | E25: 0 | F25: 0 | G25: 0.02 | H25: 0 | I25: 0
A26: Personal BTL | B26: N | D26: Portfolio 2 | E26: 0 | F26: 0 | G26: 0.02 | H26: 0 | I26: 0
A27: Property Portfolio | B27: Y | D27: Portfolio 3 | E27: 0 | F27: 0 | G27: 0.02 | H27: 0 | I27: 0
A28: Expat | B28: FALSE | D28: Portfolio 4 | E28: 0 | F28: 0 | G28: 0.02 | H28: 0 | I28: 0
D29: Total | E29: 0 | F29: 0 | G29: #DIV/0! | I29: 0 | J29: #DIV/0! | K29: 0
I30: Actual ICR% | J30: #DIV/0!
I31: Difference | J31: 0
A32: Password | B32: Vern0n | I32: Max Loan | J32: #DIV/0!
A34: Accuracy Check
A35: Applicant(s) Name | C35: N/A
A36: BTL Type | B36: Holiday - Limited Company | C36: Y
A37: Mortgage Requested £ | B37: 0 | C37: N | D37: Mortgage Amount Missing -
A38: 5yr Product Selected | B38: 0 | C38: N | D38: Product Type Missing -
A39: Product Fee to be added | B39: 0 | C39: Y
A40: Gross Annual Rental Income | B40: 0 | C40: N | D40: Mortgage Amount Missing -
A41: Property Value | B41: 0 | C41: N | D41: Property Value Missing -
A42: Product Rate % | B42: 0 | C42: Y
A43: No. of properties in portfolio | B43: 3 | C43: Y
A44: Tax App 1 | B44: 0 | C44: Y
A45: Tax App 2 | B45: N/A | C45: N/A
...

Sheet Admin
A3: ICR | B3: % | D3: Type | E3: ICR | F3: Holiday Let | G3: Tax Rate | H3: Product | I3: Portfolio Type | J3: Weeks | K3: Properties in portfolio | L3: Fixed rate ICR | M3: ICR | N3: Expat
A4: Basic Rate / Limited Co | B4: 1.25 | D4: BTL - Limited Company | E4: =IF($B$18="yes",L4,M4) -> 1.25 | G4: Basic | H4: 5 Year Fixed | I4: Standard | J4: 10 | K4: 1 | L4: 1.25 | M4: 1.25
A5: Higher rate | B5: 1.4 | D5: BTL - Personal | E5: =IF($B$18="yes",L5,M5) -> 1.25 | G5: Higher | H5: Other | I5: Holiday | J5: 11 | K5: 2 | L5: =IF(B24="No",B4,IF(B24="Yes",B5,"")) -> 1.25 | M5: =IF(B24="No",B4,IF(B24="Yes",B5,"")) -> 1.25
A6: Holiday BTL | B6: 1.45 | D6: BTL - Limited Company (HMO) | E6: 1.5 | I6: HMO | J6: 12 | K6: 3 | L6: 1.5 | M6: 1.5
A7: BTL - Expat | B7: 1.4 | D7: BTL - Expat (inc Ltd Co) | E7: 1.4 | I7: Ltd Co | K7: 4 | N7: Y
A8: HMO | B8: 1.5 | D8: BTL - Personal (HMO) | E8: =IF($B$18="yes",L8,M8) -> 1.5 | I8: Expat | L8: =IF(B24="No",B8,IF(B24="Yes",B9,"")) -> 1.5 | M8: =IF(B24="No",B8,IF(B24="Yes",B9,"")) -> 1.5
A9: HMO Higher rate | B9: 1.65 | D9: Holiday - Limited Company | E9: =IF($B$18="yes",L9,M9) -> 1.45 | F9: Y | L9: 1.45 | M9: 1.45
A10: Holiday BTL Higher Rate | B10: 1.6 | D10: Holiday - Personal | E10: =IF($B$18="yes",M10, L10) -> 1.45 | F10: Y | L10: =IF(B24="No",B6,IF(B24="Yes",B10,"")) -> 1.45 | M10: =IF(B24="No",B6,IF(B24="Yes",B10,"")) -> 1.45
A13: Stressed Rate | D13: ICR Calculation | G13: Max Loan | J13: Top Slicing (Single Property)
A14: Stressed Rate | B14: =SUM(B15+2%) -> 0.02 | D14: Rental Income Used | E14: =IF(B25="Y",Main!E34,Main!E14) -> 0 | G14: Application Max | H14: =E17 -> #N/A | J14: Rental Income | K14: =E14 -> 0
A15: Product Rate | B15: =Main!H10 -> 0 | D15: ICR USED | E15: =VLOOKUP(Main!E6,$D$4:$E$11,2,FALSE) -> #N/A | G15: Portfolio | H15: =IF(Main!H14>1,"Y","N") -> N | J15: Rental Income Required | K15: =E19*E15 -> #N/A
A16: Product Rate + 2% | B16: =IF(IF(B15=0,0,Main!H10+2%)>B14,B14,IF(B15=0,0,Main!H10+2%)) -> 0 | D16: Stressed Rate | E16: =B20 -> 0.02 | G16: Portfolio Max | H16: =IF(H15="Y",J32,H14) -> #N/A | J16: Top Slicing required pm | K16: =IF(K15<=K14,0,K15-K14)/12 -> #N/A
A17: 5yr fixed floor | B17: 0.0275 | D17: Max Loan | E17: =(E14/E15)/E16 -> #N/A | G17: Max Loan | H17: =IF(Main!H14=1,Admin!H14,MIN(H16,H14)) -> #N/A | J17: Top Slicing (Portfolio)
A18: 5yr fixed used? | B18: =IF(Main!E10="5 Year Fixed","Yes","No") -> No | D18: Loan Requested | E18: =Main!E8+Main!E12 -> 0 | J18: Rental Income | K18: =F29 -> 0
A19: 5yr Discount used? | B19: =IF(Main!E10="Yes (Discount)","Yes","No") -> No | D19: Payment at stressed rate | E19: =E18*B20 -> 0 | J19: Rental Income Required | K19: =I29*J29 -> #N/A
A20: Stressed Rate Used | B20: =IF(B19="Yes",B16,IF(B18="Yes",MAX(B15,B17),B14)) -> 0.02 | D20: ICR % | E20: =E14/E19 -> #DIV/0! | J20: Top Slicing required pm | K20: =IF(K19<=K18,0,K19-K18)/12 -> #N/A
A21: Interest Rate Required | B21: =IF(OR(B18="Yes",B19="Yes"),"Yes","No") -> No | J21: Top Slicing required pm | K21: =MAX(K20,K16) -> #N/A
D22: Portfolio
A23: Tax Position | D23: Property | E23: Loan £ | F23: Income £ | G23: Stressed Rate % | H23: Property Type | I23: 100% ICR | J23: ICR Required | K23: Rental Required | L23: Individual ICR
A24: Higher Rate Tax Payer | B24: =IF(OR(Main!E21="Higher","Yes",Main!H21="Higher"),"Yes","No") -> No | D24: Application | E24: =Main!E8 -> 0 | F24: =E14 -> 0 | G24: =E16 -> 0.02 | H24: =Main!E6 -> 0 | I24: =E24*G24 -> 0 | J24: =E15 -> #N/A | K24: =(E24*G24)*J24 -> #N/A | L24: =E20 -> #DIV/0!
A25: Holiday Let | B25: =IFERROR(VLOOKUP(Main!E6,Admin!D4:F10,3,FALSE),"") | D25: Portfolio 1 | E25: =Main!E42 -> 0 | F25: =Main!G42 -> 0 | G25: =Main!I42+2% -> 0.02 | H25: =Main!H42 -> 0 | I25: =E25*G25 -> 0 | J25: =IF(H25="Standard",$E$5,IF(H25="HMO",$E$8, IF(H25="Holiday",$E$10, IF(H25="Ltd Co",$E$4, IF(H25="Expat",$E$7, IF(H25="No",$E$5,"")))))) | K25: =IF(E25=0,"",(E25*G25)*J25) | L25: =IFERROR(F25/I25,"")
A26: Personal BTL | B26: =IF(ISNUMBER(SEARCH("Personal",B36)),"Y","N") -> N | D26: Portfolio 2 | E26: =Main!E43 -> 0 | F26: =Main!G43 -> 0 | G26: =Main!I43+2% -> 0.02 | H26: =Main!H43 -> 0 | I26: =E26*G26 -> 0 | J26: =IF(H26="Standard",$E$5,IF(H26="HMO",$E$8, IF(H26="Holiday",$E$10, IF(H26="Ltd Co",$E$4, IF(H26="Expat",$E$7, IF(H26="No",$E$5,"")))))) | K26: =IF(E26=0,"",(E26*G26)*J26) | L26: =IFERROR(F26/I26,"")
A27: Property Portfolio | B27: =IF(Main!H14>1,"Y","N") -> N | D27: Portfolio 3 | E27: =Main!E44 -> 0 | F27: =Main!G44 -> 0 | G27: =Main!I44+2% -> 0.02 | H27: =Main!H44 -> 0 | I27: =E27*G27 -> 0 | J27: =IF(H27="Standard",$E$5,IF(H27="HMO",$E$8, IF(H27="Holiday",$E$10, IF(H27="LtdCo",$E$4, IF(H27="Expat",$E$7, IF(H27="No",$E$5,"")))))) | K27: =IF(E27=0,"",(E27*G27)*J27) | L27: =IFERROR(F27/I27,"")
A28: Expat | B28: =IF(Main!E6="BTL - Expat (inc Ltd Co)", "Yes") -> FALSE | D28: Portfolio 4 | E28: =Main!E45 -> 0 | F28: =Main!G45 -> 0 | G28: =Main!I45+2% -> 0.02 | H28: =Main!H45 -> 0 | I28: =E28*G28 -> 0 | J28: =IF(H28="Standard",$E$5,IF(H28="HMO",$E$8, IF(H28="Holiday",$E$10, IF(H28="LtdCo",$E$4, IF(H28="Expat",$E$7, IF(H28="No",$E$5,"")))))) | K28: =IF(E28=0,"",(E28*G28)*J28) | L28: =IFERROR(F28/I28,"")
D29: Total | E29: =SUM(E24:E28) -> 0 | F29: =SUM(F24:F28) -> 0 | G29: =I29/E29 -> #DIV/0! | I29: =SUM(I24:I28) -> 0 | J29: =K29/I29 -> #N/A | K29: =SUM(K24:K28) -> #N/A
I30: Actual ICR% | J30: =F29/I29 -> #DIV/0!
I31: Difference | J31: =F29-K29 -> #N/A
A32: Password | B32: Vern0n | I32: Max Loan | J32: =((F29/G29)/J29)-SUM(E25:E28) -> #DIV/0!
A34: Accuracy Check
A35: Applicant(s) Name | C35: N/A
A36: BTL Type | B36: =Main!E6 -> 0 | C36: =IF(B36=0,"N","Y") -> N | D36: =IF(C36="N","BTL Type Missing -","") -> BTL Type Missing -
A37: Mortgage Requested £ | B37: =Main!E8 -> 0 | C37: =IF(B37=0,"N","Y") -> N | D37: =IF(C37="N","Mortgage Amount Missing -","") -> Mortgage Amount Missing -
A38: 5yr Product Selected | B38: =Main!E10 -> 0 | C38: =IF(B38=0,"N","Y") -> N | D38: =IF(C38="N","Product Type Missing -","") -> Product Type Missing -
A39: Product Fee to be added | B39: =Main!E12 -> 0 | C39: =IF(B39="","N","Y") -> Y | D39: =IF(C39="N","Product Fee Missing -","")
A40: Gross Annual Rental Income | B40: =Main!E8 -> 0 | C40: =IF(OR(B40="",B40=0),"N","Y") -> N | D40: =IF(C40="N","Mortgage Amount Missing -","") -> Mortgage Amount Missing -
A41: Property Value | B41: =Main!H8 -> 0 | C41: =IF(B41=0,"N","Y") -> N | D41: =IF(C41="N","Property Value Missing -","") -> Property Value Missing -
A42: Product Rate % | B42: =Main!H10 -> 0 | C42: =IF(AND(B42=0,B21="Yes"),"N","Y") -> Y | D42: =IF(C42="N","Product Rate Missing -","")
A43: No. of properties in portfolio | B43: =Main!H14 -> 0 | C43: =IF(B43=0,"N","Y") -> N | D43: =IF(C43="N","No. properties Missing -","") -> No. properties Missing -
A44: Tax App 1 | B44: =Main!E21 -> 0 | C44: =IF(B26="N","Y",IF(B44=0,"N","Y")) -> Y | D44: =IF(C44="N","Applicant 1 Tax Position -","")
A45: Tax App 2 | B45: N/A | C45: N/A
...

Sheet ICR Types
A2: Type | B2: ICR | C2: Justification
A3: Minimum ICR | B3: 1.25 | C3: Minimum Industry Standard Threshold
A4: BTL - Limited Company | B4: 1.25 | C4: Minimum Industry Standard Threshold + 5% buffer It is anticpated that these properties will be rented on Assured Shorthold Tenancy Agreements whereby tenants will cover the running costs of the property. 125% ICR includes letting fees (15%), Maintenance and tax (10%).
A5: BTL - Personal (Basic Tax) | B5: 1.25 | C5: Minimum Industry Standard Threshold + 5% buffer It is anticpated that these properties will be rented on Assured Shorthold Tenancy Agreements whereby tenants will cover the running costs of the property. 125% ICR includes letting fees (15%), Maintenance and tax (10%). Typically tax liabilities are low for basic rate tax payers
A6: BTL - Personal (Higher Tax) | B6: 1.4 | C6: It is anticpated that these properties will be rented on Assured Shorthold Tenancy Agreements whereby tenants will cover the running costs of the property. 140% ICR includes letting fees (15%), Maintenance (10%), Tax (15%).
A7: BTL - Limited Company (HMO) | B7: 1.5 | C7: It is anticpated that these properties will be rented on Assured Shorthold Tenancy Agreements inclusive of bills. The applicant will therefore be responsible for any running costs for the property. 150% ICR includes letting fees (15%), Maintenance (15%), Running Costs (20%).
A8: BTL - Personal (HMO) (Basic Tax) | B8: 1.5 | C8: It is anticpated that these properties will be rented on Assured Shorthold Tenancy Agreements inclusive of bills. The applicant will therefore be responsible for any running costs for the property. 150% ICR includes letting fees (15%), Maintenance (15%), Running Costs (20%). Typically tax liabilities are low for basic rate tax payers.
A9: BTL - Personal (HMO) (Higher Tax) | B9: 1.65 | C9: It is anticpated that these properties will be rented on Assured Shorthold Tenancy Agreements whereby tenants will cover the running costs of the property. 170% ICR includes letting fees (15%), Maintenance (15%), Running Costs (20%), Tax (additional 15%)
A10: Holiday - Limited Company | B10: 1.45 | C10: It is anticpated that properties will be rented for approximately 30 weeks on individual weekly lets. The applicants will be responsible for the running costs of the property. 145% ICR includes letting fees (20%), Maintenance and Running costs (25%).
A11: Holiday - Personal (Basic tax) | B11: 1.45 | C11: It is anticpated that properties will be rented for approximately 30 weeks on individual weekly lets. The applicants will be responsible for the running costs of the property. 145% ICR includes letting fees (20%), Maintenance and Running costs (25%). Typically tax liabilities are low for basic rate tax payers.
A12: Holiday - Personal (Higher tax) | B12: 1.6 | C12: It is anticpated that properties will be rented for approximately 30 weeks on individual weekly lets. The applicants will be responsible for the running costs of the property. 160% ICR includes letting fees (20%), Maintenance and Running costs (25%). Tax (15%).
A13: Expatriate - Personal and Ltd Co | B13: 1.4 | C13: Criteria Aligned to % for a Personal – Higher Rate Taxpayer for both forms of lending.
